BEGIN:VCALENDAR
VERSION:2.0
PRODID:-//Tipsy Canyon Winery - ECPv6.11.0.1//NONSGML v1.0//EN
CALSCALE:GREGORIAN
METHOD:PUBLISH
X-ORIGINAL-URL:https://tipsycanyon.com
X-WR-CALDESC:Events for Tipsy Canyon Winery
REFRESH-INTERVAL;VALUE=DURATION:PT1H
X-Robots-Tag:noindex
X-PUBLISHED-TTL:PT1H
BEGIN:VTIMEZONE
TZID:America/Los_Angeles
BEGIN:DAYLIGHT
TZOFFSETFROM:-0800
TZOFFSETTO:-0700
TZNAME:PDT
DTSTART:20250309T100000
END:DAYLIGHT
BEGIN:STANDARD
TZOFFSETFROM:-0700
TZOFFSETTO:-0800
TZNAME:PST
DTSTART:20251102T090000
END:STANDARD
END:VTIMEZONE
BEGIN:VEVENT
DTSTART;VALUE=DATE:20250901
DTEND;VALUE=DATE:20251001
DTSTAMP:20260419T060507
CREATED:20250828T233818Z
LAST-MODIFIED:20250828T233818Z
UID:10000628-1756684800-1759276799@tipsycanyon.com
SUMMARY:Wine Club Member Appreciation Month
DESCRIPTION:September is Wine Club Member Appreciation Month!\n\n\n\nIn lieu of celebrating our members during a one day event\, we would like to celebrate you all month long! Stop by the tasting room and receive a prize from Tipsy Canyon Winery or gift cards to local businesses such as Local Myth Pizza\, Stormy Mountain Brewery\, The Landing Chelan\, Culinary Apple\, Lush Life\, Laguna Grill and many more!\n\n\n\nWe appreciate our members for all of your support throughout the years. We’d like to thank you with gifts that support our local community as well.
URL:https://tipsycanyon.com/upcoming-event/wine-club-member-appreciation-month-2/
LOCATION:Tipsy Canyon Winery\, 270 Upper Joe Creek Rd\, Manson\, WA\, 98831\, United States
CATEGORIES:Featured Event
ATTACH;FMTTYPE=image/png:https://tipsycanyon.com/wp-content/uploads/2024/08/Website-September-WC-Appreciation.png
END:VEVENT
BEGIN:VEVENT
DTSTART;TZID=America/Los_Angeles:20250918T180000
DTEND;TZID=America/Los_Angeles:20250918T210000
DTSTAMP:20260419T060507
CREATED:20250506T225001Z
LAST-MODIFIED:20250506T225001Z
UID:10000624-1758218400-1758229200@tipsycanyon.com
SUMMARY:Sunset in Paradise Concert Series: Live Music by Danny's Flask
DESCRIPTION:Tipsy Canyon Winery is excited to bring you live music from Danny’s Flask during the Sunset in Paradise Summer Concert Series! This year sees a significant update in the Danny’s Flask lineup! Danny\, after working with the awesome talents of blues guitarist Nate Burch and the rocking rhythms of drummer Mark McClosky in\na side project\, he decided to revamp the band! This iteration of Danny’s Flask is a hard-hitting rhythm and blues powerhouse of tunes that crowds have reacted to with much excitement and movement. We’re ecstatic to bring this mix of energy to the Lake Chelan Valley.\n\nSo kick up a seat\, enjoy award-winning wine\, grab some food from Nomad by County Line and get ready to rock to the sounds of Danny’s Flask!\n\nConcert ground rules:– All Thursday night music series concerts are complimentary.– Attendance is first come\, first serve. We do not take reservations or save tables/chairs/parking.– We encourage carpooling\, as parking is limited.– No large RV’s\, boats\, trailers allowed in the parking lot.– Coolers of any type/size are NOT allowed. No outside alcohol. Violators will have alcohol confiscated and asked to leave the event.– A few chairs are available at the venue. Low concert/beach chairs are allowed.– The venue has very little shade. Come prepared for warm/hot evenings.– Food service for purchase is available for all music events.– Any use of cannabis products or illegal substances is strictly prohibited anywhere on Tipsy Canyon Winery property (including personal vehicles).– We discontinue Wine Tasting service on Thursdays starting at 4:00.– Wine (glass or bottle only)\, beer\, soda\, juice\, sparkling water are available for purchase.– The last call for beverage purchase is 8:30 pm.– Children are allowed if they are supervised and stay with their parents.– Dogs are allowed if they are friendly and are leashed at all times.
URL:https://tipsycanyon.com/upcoming-event/sunset-in-paradise-concert-series-live-music-by-dannys-flask-3/
LOCATION:Tipsy Canyon Winery\, 270 Upper Joe Creek Rd\, Manson\, WA\, 98831\, United States
CATEGORIES:Music Event
ATTACH;FMTTYPE=image/png:https://tipsycanyon.com/wp-content/uploads/2024/06/Website-9.5.24-Dannys-Flask.png
END:VEVENT
END:VCALENDAR