BEGIN:VCALENDAR
VERSION:2.0
PRODID:-//Tipsy Canyon Winery - ECPv6.11.0.1//NONSGML v1.0//EN
CALSCALE:GREGORIAN
METHOD:PUBLISH
X-ORIGINAL-URL:https://tipsycanyon.com
X-WR-CALDESC:Events for Tipsy Canyon Winery
REFRESH-INTERVAL;VALUE=DURATION:PT1H
X-Robots-Tag:noindex
X-PUBLISHED-TTL:PT1H
BEGIN:VTIMEZONE
TZID:America/Los_Angeles
BEGIN:DAYLIGHT
TZOFFSETFROM:-0800
TZOFFSETTO:-0700
TZNAME:PDT
DTSTART:20240310T100000
END:DAYLIGHT
BEGIN:STANDARD
TZOFFSETFROM:-0700
TZOFFSETTO:-0800
TZNAME:PST
DTSTART:20241103T090000
END:STANDARD
END:VTIMEZONE
BEGIN:VEVENT
DTSTART;TZID=America/Los_Angeles:20240201T110000
DTEND;TZID=America/Los_Angeles:20240201T173000
DTSTAMP:20260425T063536
CREATED:20240105T224532Z
LAST-MODIFIED:20240105T224532Z
UID:10000460-1706785200-1706808600@tipsycanyon.com
SUMMARY:Red Wine & Chocolate Pairing @ Tipsy Canyon Winery
DESCRIPTION:Celebrate Red Wine & Chocolate ALL FEBRUARY LONG at Tipsy Canyon Winery! \nDuring February\, all wine tastings will conclude with a special pairing of our 2020 Mélange Noir to a dark chocolate truffle (infused with the same wine!) by Merrow Chocolatier. \nWine tastings are $15\, waived with bottle purchase\, or complementary to wine club members! \nSo bring your friends or that special someone and join us at Tipsy Canyon Winery for a delicious experience!
URL:https://tipsycanyon.com/upcoming-event/red-wine-chocolate-pairing-tipsy-canyon-winery/2024-02-01/
LOCATION:Tipsy Canyon Winery\, 270 Upper Joe Creek Rd\, Manson\, WA\, 98831\, United States
ATTACH;FMTTYPE=image/jpeg:https://tipsycanyon.com/wp-content/uploads/2024/01/TCW-2024-RWC-Wide-TCW-Event-Image.jpg
END:VEVENT
BEGIN:VEVENT
DTSTART;TZID=America/Los_Angeles:20240201T160000
DTEND;TZID=America/Los_Angeles:20240201T180000
DTSTAMP:20260425T063536
CREATED:20231220T204908Z
LAST-MODIFIED:20231220T204908Z
UID:10000447-1706803200-1706810400@tipsycanyon.com
SUMMARY:Live Music: Owen Barnhart
DESCRIPTION:Tipsy Canyon Winery can’t wait to kick-off February with another night of live music and award winning wine featuring Owen Barnhart! \nCountry solo artist Owen Barnhart can be seen throughout Washington state delivering passionate performances and engaging genuine connections with his audiences.  \nGrowing up in the small mountain town of Stehekin\, WA\, Owen connects deeply with Country music.  His sets include soulful banjo\, fingerpicking guitar and a crystal clear voice – covering everything from classic Country and Americana to new twists on Classic Rock as well as original compositions.  \nSeeing Owen live is not to be missed!
URL:https://tipsycanyon.com/upcoming-event/live-music-owen-barnhart-4/
LOCATION:Tipsy Canyon Winery\, 270 Upper Joe Creek Rd\, Manson\, WA\, 98831\, United States
CATEGORIES:Music Event
ATTACH;FMTTYPE=image/jpeg:https://tipsycanyon.com/wp-content/uploads/2023/09/TCW-Website-Event-Images-400-x-300-Owen-Barnhart.jpg
END:VEVENT
BEGIN:VEVENT
DTSTART;TZID=America/Los_Angeles:20240202T110000
DTEND;TZID=America/Los_Angeles:20240202T173000
DTSTAMP:20260425T063536
CREATED:20240105T224532Z
LAST-MODIFIED:20240105T224532Z
UID:10000461-1706871600-1706895000@tipsycanyon.com
SUMMARY:Red Wine & Chocolate Pairing @ Tipsy Canyon Winery
DESCRIPTION:Celebrate Red Wine & Chocolate ALL FEBRUARY LONG at Tipsy Canyon Winery! \nDuring February\, all wine tastings will conclude with a special pairing of our 2020 Mélange Noir to a dark chocolate truffle (infused with the same wine!) by Merrow Chocolatier. \nWine tastings are $15\, waived with bottle purchase\, or complementary to wine club members! \nSo bring your friends or that special someone and join us at Tipsy Canyon Winery for a delicious experience!
URL:https://tipsycanyon.com/upcoming-event/red-wine-chocolate-pairing-tipsy-canyon-winery/2024-02-02/
LOCATION:Tipsy Canyon Winery\, 270 Upper Joe Creek Rd\, Manson\, WA\, 98831\, United States
ATTACH;FMTTYPE=image/jpeg:https://tipsycanyon.com/wp-content/uploads/2024/01/TCW-2024-RWC-Wide-TCW-Event-Image.jpg
END:VEVENT
BEGIN:VEVENT
DTSTART;TZID=America/Los_Angeles:20240203T110000
DTEND;TZID=America/Los_Angeles:20240203T173000
DTSTAMP:20260425T063536
CREATED:20240105T224532Z
LAST-MODIFIED:20240105T224532Z
UID:10000462-1706958000-1706981400@tipsycanyon.com
SUMMARY:Red Wine & Chocolate Pairing @ Tipsy Canyon Winery
DESCRIPTION:Celebrate Red Wine & Chocolate ALL FEBRUARY LONG at Tipsy Canyon Winery! \nDuring February\, all wine tastings will conclude with a special pairing of our 2020 Mélange Noir to a dark chocolate truffle (infused with the same wine!) by Merrow Chocolatier. \nWine tastings are $15\, waived with bottle purchase\, or complementary to wine club members! \nSo bring your friends or that special someone and join us at Tipsy Canyon Winery for a delicious experience!
URL:https://tipsycanyon.com/upcoming-event/red-wine-chocolate-pairing-tipsy-canyon-winery/2024-02-03/
LOCATION:Tipsy Canyon Winery\, 270 Upper Joe Creek Rd\, Manson\, WA\, 98831\, United States
ATTACH;FMTTYPE=image/jpeg:https://tipsycanyon.com/wp-content/uploads/2024/01/TCW-2024-RWC-Wide-TCW-Event-Image.jpg
END:VEVENT
END:VCALENDAR