BEGIN:VCALENDAR
VERSION:2.0
PRODID:-//Tipsy Canyon Winery - ECPv6.11.0.1//NONSGML v1.0//EN
CALSCALE:GREGORIAN
METHOD:PUBLISH
X-ORIGINAL-URL:https://tipsycanyon.com
X-WR-CALDESC:Events for Tipsy Canyon Winery
REFRESH-INTERVAL;VALUE=DURATION:PT1H
X-Robots-Tag:noindex
X-PUBLISHED-TTL:PT1H
BEGIN:VTIMEZONE
TZID:America/Los_Angeles
BEGIN:DAYLIGHT
TZOFFSETFROM:-0800
TZOFFSETTO:-0700
TZNAME:PDT
DTSTART:20230312T100000
END:DAYLIGHT
BEGIN:STANDARD
TZOFFSETFROM:-0700
TZOFFSETTO:-0800
TZNAME:PST
DTSTART:20231105T090000
END:STANDARD
BEGIN:DAYLIGHT
TZOFFSETFROM:-0800
TZOFFSETTO:-0700
TZNAME:PDT
DTSTART:20240310T100000
END:DAYLIGHT
BEGIN:STANDARD
TZOFFSETFROM:-0700
TZOFFSETTO:-0800
TZNAME:PST
DTSTART:20241103T090000
END:STANDARD
END:VTIMEZONE
BEGIN:VEVENT
DTSTART;VALUE=DATE:20231124
DTEND;VALUE=DATE:20240122
DTSTAMP:20260425T063644
CREATED:20231026T191741Z
LAST-MODIFIED:20231128T175858Z
UID:10000434-1700784000-1705881599@tipsycanyon.com
SUMMARY:Tipsy Tree Town 2023
DESCRIPTION:‘Tis the season for giving at Tipsy Canyon Winery!  \nVisit the tasting room between November 24th and January 21st to cast your vote for your favorite decorated tree as part of our Tipsy Tree Town Fundraising event! \nHow does it work? \n🗳️ Vote on your favorite tree for $1 per vote — there is no minimum on the amount of votes! \n🏆 Each vote equals an entry into a raffle with special prizes from Tipsy Canyon Winery! \n🎄 Want to take the tree home? Place your bid in the silent auction! Final bids close on January 21st \nAll proceeds go towards the Chelan Valley Housing Trust \nThank you to the following tree sponsors: \nRotten Apple \nLush Life \nLocal Myth/Café Myth
URL:https://tipsycanyon.com/upcoming-event/tipsy-tree-town-2023/
LOCATION:Tipsy Canyon Winery\, 270 Upper Joe Creek Rd\, Manson\, WA\, 98831\, United States
CATEGORIES:Annual Event,Fundraiser
ATTACH;FMTTYPE=image/jpeg:https://tipsycanyon.com/wp-content/uploads/2023/10/TCW-Website-Event-Images-400-x-300-Tipsy-Tree-Town.jpg
END:VEVENT
BEGIN:VEVENT
DTSTART;TZID=America/Los_Angeles:20240118T160000
DTEND;TZID=America/Los_Angeles:20240118T180000
DTSTAMP:20260425T063644
CREATED:20231214T192448Z
LAST-MODIFIED:20231214T192448Z
UID:10000444-1705593600-1705600800@tipsycanyon.com
SUMMARY:Live Music: Sean Curkendall
DESCRIPTION:Join Tipsy Canyon for another cozy evening of live music featuring Sean Curkendall! \nSean Curkendall has been playing piano for over 30  years. He has a wide range of genres that he plays well and is familiar with. He has played for such greats as Billy Shew\, Randy Oxford\, Rafiel Tranchlimino\, Micheal Powers\, Vicci Martinez\, Jumpin Josh\, and more.  \nHe has worked with such producers as Mr. Ruben Augusto\, and many more. His music is his passion and Sean is very diligent to make sure that all his goals and ambitions will work correctly through his music. \nGrab a glass of award winning wine and a seat and enjoy the bluesy sounds of Sean Curkendall!
URL:https://tipsycanyon.com/upcoming-event/live-music-sean-curkendall/
LOCATION:Tipsy Canyon Winery\, 270 Upper Joe Creek Rd\, Manson\, WA\, 98831\, United States
CATEGORIES:Music Event
ATTACH;FMTTYPE=image/jpeg:https://tipsycanyon.com/wp-content/uploads/2023/12/TCW-Website-Event-Images-400-x-300-Sean-Curkendall.jpg
END:VEVENT
BEGIN:VEVENT
DTSTART;TZID=America/Los_Angeles:20240118T180000
DTEND;TZID=America/Los_Angeles:20240118T220000
DTSTAMP:20260425T063644
CREATED:20231122T180750Z
LAST-MODIFIED:20231220T202343Z
UID:10000437-1705600800-1705615200@tipsycanyon.com
SUMMARY:2024 Neighbors Blend Release
DESCRIPTION:Experience a one-of-a-kind black-tie event supporting the Chelan Valley Housing Trust. \nLast year’s event generated over $110\,000 for this important cause! \n🗓 When: Thursday\, January 18th\, 2024\, from 6pm-10pm during Winterfest 2024 \n📍 Where: The Landing Chelan\, 104 E Woodin Ave\, Chelan\, WA 98816 \n👉 Cost: $150 \n✅ Includes: wine\, dinner\, live music\, silent auction\, and exclusive opportunity to be the first to purchase the Neighbors Blend! \nGet Tickets Here! \nNavarre Coulee Vineyards and Tipsy Canyon Winery will release their second Neighbors Blend wine as a celebration of community\, camaraderie\, and culture in the Lake Chelan Valley. \nThis wine was crafted by blending varietals from our respective cellars to deliver a unique tasting experience and underscore the importance of being part of something bigger than ourselves. \nProceeds go to the Chelan Valley Housing Trust\, a nonprofit organization that helps develop viable housing options for local wage earners to build roots where they work\, enjoy a quality of life\, and shape the future of our storied neighborhoods. \nGet Tickets Here!
URL:https://tipsycanyon.com/upcoming-event/2024-neighbors-blend-release-fundraiser/
LOCATION:The Landing Chelan\, 104 E Woodin Ave\, Chelan\, WA\, 98816\, United States
CATEGORIES:Fundraiser,Wine Event
ATTACH;FMTTYPE=image/jpeg:https://tipsycanyon.com/wp-content/uploads/2023/11/TCW-2024-Neighbors-Blend-Release-Wide-TCW-Event-Image.jpg
END:VEVENT
BEGIN:VEVENT
DTSTART;TZID=America/Los_Angeles:20240120T130000
DTEND;TZID=America/Los_Angeles:20240120T160000
DTSTAMP:20260425T063644
CREATED:20231215T002244Z
LAST-MODIFIED:20231215T002244Z
UID:10000446-1705755600-1705766400@tipsycanyon.com
SUMMARY:Winterfest Live Music: Side Hustle
DESCRIPTION:Tipsy Canyon is excited to bring you amazing live music to add to the Winterfest fun featuring Side Hustle! \nSide Hustle is a Wenatchee all-star acoustic band\, comprised of members from several well known local bands. \nJoin us during Winterfest Weekend 2 for award winning wine paired with the acoustic sounds of Side Hustle!
URL:https://tipsycanyon.com/upcoming-event/winterfest-live-music-side-hustle/
LOCATION:Tipsy Canyon Winery\, 270 Upper Joe Creek Rd\, Manson\, WA\, 98831\, United States
CATEGORIES:Music Event
ATTACH;FMTTYPE=image/jpeg:https://tipsycanyon.com/wp-content/uploads/2023/12/TCW-Website-Event-Images-400-x-300-Side-Hustle.jpg
END:VEVENT
END:VCALENDAR