BEGIN:VCALENDAR
VERSION:2.0
PRODID:-//Tipsy Canyon Winery - ECPv6.11.0.1//NONSGML v1.0//EN
CALSCALE:GREGORIAN
METHOD:PUBLISH
X-ORIGINAL-URL:https://tipsycanyon.com
X-WR-CALDESC:Events for Tipsy Canyon Winery
REFRESH-INTERVAL;VALUE=DURATION:PT1H
X-Robots-Tag:noindex
X-PUBLISHED-TTL:PT1H
BEGIN:VTIMEZONE
TZID:America/Los_Angeles
BEGIN:DAYLIGHT
TZOFFSETFROM:-0800
TZOFFSETTO:-0700
TZNAME:PDT
DTSTART:20230312T100000
END:DAYLIGHT
BEGIN:STANDARD
TZOFFSETFROM:-0700
TZOFFSETTO:-0800
TZNAME:PST
DTSTART:20231105T090000
END:STANDARD
BEGIN:DAYLIGHT
TZOFFSETFROM:-0800
TZOFFSETTO:-0700
TZNAME:PDT
DTSTART:20240310T100000
END:DAYLIGHT
BEGIN:STANDARD
TZOFFSETFROM:-0700
TZOFFSETTO:-0800
TZNAME:PST
DTSTART:20241103T090000
END:STANDARD
END:VTIMEZONE
BEGIN:VEVENT
DTSTART;VALUE=DATE:20231124
DTEND;VALUE=DATE:20240122
DTSTAMP:20260421T031655
CREATED:20231026T191741Z
LAST-MODIFIED:20231128T175858Z
UID:10000434-1700784000-1705881599@tipsycanyon.com
SUMMARY:Tipsy Tree Town 2023
DESCRIPTION:‘Tis the season for giving at Tipsy Canyon Winery!  \nVisit the tasting room between November 24th and January 21st to cast your vote for your favorite decorated tree as part of our Tipsy Tree Town Fundraising event! \nHow does it work? \n🗳️ Vote on your favorite tree for $1 per vote — there is no minimum on the amount of votes! \n🏆 Each vote equals an entry into a raffle with special prizes from Tipsy Canyon Winery! \n🎄 Want to take the tree home? Place your bid in the silent auction! Final bids close on January 21st \nAll proceeds go towards the Chelan Valley Housing Trust \nThank you to the following tree sponsors: \nRotten Apple \nLush Life \nLocal Myth/Café Myth
URL:https://tipsycanyon.com/upcoming-event/tipsy-tree-town-2023/
LOCATION:Tipsy Canyon Winery\, 270 Upper Joe Creek Rd\, Manson\, WA\, 98831\, United States
CATEGORIES:Annual Event,Fundraiser
ATTACH;FMTTYPE=image/jpeg:https://tipsycanyon.com/wp-content/uploads/2023/10/TCW-Website-Event-Images-400-x-300-Tipsy-Tree-Town.jpg
END:VEVENT
BEGIN:VEVENT
DTSTART;TZID=America/Los_Angeles:20231221T160000
DTEND;TZID=America/Los_Angeles:20231221T180000
DTSTAMP:20260421T031655
CREATED:20231009T232712Z
LAST-MODIFIED:20231207T002215Z
UID:10000430-1703174400-1703181600@tipsycanyon.com
SUMMARY:Live Music: Darnell Scott
DESCRIPTION:Tipsy Canyon Winery can’t wait to bring you another fun-filled night of live music featuring Darnell Scott! \nDarnell Scott is a one of a kind musician and a man who is making his mark in the world of Blues\, R&B\, and Soul.  \nAs a youngster\, he enjoyed the music of such artists as Al Green\, Curtis Mayfield and Marvin Gaye\, just to name a few. Even though Scott has never had any formal training to play the guitar or sing\, he is a natural and a force to be reckoned with.  \nRooted deep in soul\, his music is exciting and fresh. You will notice it all comes together and is evident in the way the music speaks to you. His command and style is unique and captivating. He delivers a song with mesmerizing originality.  \nEnhancing the talent of Scott are musicians chosen for their professional command of their instruments. Their presence and knowledge of dynamics is evident in the way they captivate the spirit of the music. \n👉 Don’t forget to wear your ugly sweater for our Ugly Christmas Sweater Party!
URL:https://tipsycanyon.com/upcoming-event/live-music-darnell-scott-4/
LOCATION:Tipsy Canyon Winery\, 270 Upper Joe Creek Rd\, Manson\, WA\, 98831\, United States
CATEGORIES:Music Event
ATTACH;FMTTYPE=image/jpeg:https://tipsycanyon.com/wp-content/uploads/2023/10/TCW-Website-Event-Images-400-x-300-Darnell-Scott.jpg
END:VEVENT
BEGIN:VEVENT
DTSTART;TZID=America/Los_Angeles:20231221T160000
DTEND;TZID=America/Los_Angeles:20231221T180000
DTSTAMP:20260421T031655
CREATED:20231207T000548Z
LAST-MODIFIED:20231207T000548Z
UID:10000439-1703174400-1703181600@tipsycanyon.com
SUMMARY:Ugly Christmas Sweater Party @ Tipsy Canyon Winery
DESCRIPTION:Join us for a night of festive fun and holiday cheer at our Ugly Christmas Sweater Party! \nThis evening is all about celebrating the season with a twist of humor alongside our award-winning wine and live music! \nWe’ll select one winner who’ll get a Tipsy Canyon Winery Hoodie (to replace your ugly sweater!) and a $25 gift card! \nTo be eligible to win\, you must stay until 6pm to win the prize!
URL:https://tipsycanyon.com/upcoming-event/ugly-christmas-sweater-party-tipsy-canyon-winery/
LOCATION:Tipsy Canyon Winery\, 270 Upper Joe Creek Rd\, Manson\, WA\, 98831\, United States
CATEGORIES:Music Event,Other
ATTACH;FMTTYPE=image/png:https://tipsycanyon.com/wp-content/uploads/2023/12/TCW-2023-Ugly-Sweater-Contest-Wide-TCW-Event-Image.png
END:VEVENT
END:VCALENDAR