BEGIN:VCALENDAR
VERSION:2.0
PRODID:-//Tipsy Canyon Winery - ECPv6.11.0.1//NONSGML v1.0//EN
CALSCALE:GREGORIAN
METHOD:PUBLISH
X-WR-CALNAME:Tipsy Canyon Winery
X-ORIGINAL-URL:https://tipsycanyon.com
X-WR-CALDESC:Events for Tipsy Canyon Winery
REFRESH-INTERVAL;VALUE=DURATION:PT1H
X-Robots-Tag:noindex
X-PUBLISHED-TTL:PT1H
BEGIN:VTIMEZONE
TZID:America/Los_Angeles
BEGIN:DAYLIGHT
TZOFFSETFROM:-0800
TZOFFSETTO:-0700
TZNAME:PDT
DTSTART:20250309T100000
END:DAYLIGHT
BEGIN:STANDARD
TZOFFSETFROM:-0700
TZOFFSETTO:-0800
TZNAME:PST
DTSTART:20251102T090000
END:STANDARD
END:VTIMEZONE
BEGIN:VEVENT
DTSTART;TZID=America/Los_Angeles:20251106T160000
DTEND;TZID=America/Los_Angeles:20251106T180000
DTSTAMP:20260425T050416
CREATED:20250901T193812Z
LAST-MODIFIED:20250901T193812Z
UID:10000634-1762444800-1762452000@tipsycanyon.com
SUMMARY:Live Music During Harvest: Kevin Jones
DESCRIPTION:Tipsy Canyon is excited to bring you another evening of live music and award winning wine\, featuring the acoustic sounds of Kevin Jones! \nKevin Jones is a multi-instrumentalist\, producer\, and singer/songwriter He performs solo\, duo\, trio\, and with The Kevin Jones Band and sits in with some of the finest musicians in the world today. Kevin is a touring musician and has shared stages or opened shows with national acts such as John Hiatt\, Little Feat\, Roseanne Cash\, Jonny Lang\, English Beat\, Bruce Cockburn\, Joan Baez\, Laura Love\, Marc Cohn\, Michael Tomlinson\, & Catie Curtis. \nKevin’s original lyrics are well crafted\, and his guitar playing is innovative and precise. His voice is powerful\, gutsy\, and pure. He plays a variety of different guitars and has an extensive collection of standard and custom built stringed instruments. He uses odd and low tunings to create a huge performance sound. Acoustically\, he uses Sunrise Pickups and Krivo Pickups (and the occasional good condenser microphone).
URL:https://tipsycanyon.com/upcoming-event/live-music-during-harvest-kevin-jones/
LOCATION:Tipsy Canyon Winery\, 270 Upper Joe Creek Rd\, Manson\, WA\, 98831\, United States
CATEGORIES:Music Event,Wine Harvest
ATTACH;FMTTYPE=image/jpeg:https://tipsycanyon.com/wp-content/uploads/2024/01/TCW-Website-Event-Images-400-x-300-SOLO-Kevin-Jones.jpg
END:VEVENT
BEGIN:VEVENT
DTSTART;TZID=America/Los_Angeles:20251108T130000
DTEND;TZID=America/Los_Angeles:20251108T160000
DTSTAMP:20260425T050416
CREATED:20250901T195610Z
LAST-MODIFIED:20251016T231623Z
UID:10000635-1762606800-1762617600@tipsycanyon.com
SUMMARY:Live Music During Fall Barrel Tasting Weekend 1: Owen Barnhart
DESCRIPTION:Tipsy Canyon Winery is excited to bring you live music by the amazing Owen Barnhart paired with an exclusive barrel tasting! Try a featured wine right out of the barrel with our winemaker!\n\nCountry solo artist Owen Barnhart can be seen throughout Washington state delivering passionate performances and engaging genuine connections with his audiences.\n\nGrowing up in the small mountain town of Stehekin\, WA\, Owen connects deeply with Country music. His sets include soulful banjo\, fingerpicking guitar and a crystal clear voice – covering everything from classic Country and Americana to new twists on Classic Rock as well as original compositions.\n\nSeeing Owen live is not to be missed!
URL:https://tipsycanyon.com/upcoming-event/live-music-during-fall-barrel-tasting-weekend-1-greg-king/
LOCATION:Tipsy Canyon Winery\, 270 Upper Joe Creek Rd\, Manson\, WA\, 98831\, United States
CATEGORIES:Music Event,Wine Harvest
ATTACH;FMTTYPE=image/jpeg:https://tipsycanyon.com/wp-content/uploads/2023/09/TCW-Website-Event-Images-400-x-300-Owen-Barnhart.jpg
END:VEVENT
BEGIN:VEVENT
DTSTART;TZID=America/Los_Angeles:20251113T160000
DTEND;TZID=America/Los_Angeles:20251113T180000
DTSTAMP:20260425T050416
CREATED:20250901T203041Z
LAST-MODIFIED:20250901T203041Z
UID:10000636-1763049600-1763056800@tipsycanyon.com
SUMMARY:Live Music During Harvest: Nick Mardon
DESCRIPTION:Tipsy Canyon Winery is excited to bring you an afternoon of live music by Nick Mardon. \nNick Mardon is widely known by fans and peers as “the hardest working musician in Seattle.” A virtuoso guitarist and soulful vocalist\, Nick balances his role at Emerald City Guitars—Seattle’s premier vintage guitar shop—with an active career that includes performing hundreds of live shows each year\, teaching private lessons\, and recording with various artists. His passion for music has taken him from Seattle to stages in Alaska\, Las Vegas\, Memphis\, and New York. \nNick’s style blends the influences of 60s and 70s classic rock\, 90s alternative\, and blues-pop\, taking cues from artists like Jimi Hendrix\, SRV\, John Mayer\, and Maroon 5. Whether he’s performing his original music or reimagining iconic covers\, Nick creates immersive\, engaging performances that connect deeply with his audiences. Known for his technical prowess\, he often dazzles crowds by playing his Fender Stratocaster behind his head and back\, delivering a modern mashup of Hendrix and SRV. \nSo pull up a seat\, grab a glass of wine\, and get ready to enjoy a fantastic afternoon with live music by Nick Mardon!
URL:https://tipsycanyon.com/upcoming-event/live-music-during-harvest-nick-mardon/
LOCATION:Tipsy Canyon Winery\, 270 Upper Joe Creek Rd\, Manson\, WA\, 98831\, United States
CATEGORIES:Music Event,Wine Harvest
ATTACH;FMTTYPE=image/png:https://tipsycanyon.com/wp-content/uploads/2025/09/Website-400-x-300-Nick-Mardon.png
END:VEVENT
BEGIN:VEVENT
DTSTART;TZID=America/Los_Angeles:20251115T130000
DTEND;TZID=America/Los_Angeles:20251115T160000
DTSTAMP:20260425T050416
CREATED:20250901T235316Z
LAST-MODIFIED:20250901T235316Z
UID:10000638-1763211600-1763222400@tipsycanyon.com
SUMMARY:Live Music During Fall Barrel Tasting Weekend 2: Ray Glover
DESCRIPTION:Tipsy Canyon Winery is excited to bring you live music featuring Ray Glover from the Dimestore Prophets paired with an exclusive barrel tasting! Try a featured wine right out of the barrel with our winemaker!
URL:https://tipsycanyon.com/upcoming-event/live-music-during-fall-barrel-tasting-weekend-2-ray-glover/
LOCATION:Tipsy Canyon Winery\, 270 Upper Joe Creek Rd\, Manson\, WA\, 98831\, United States
CATEGORIES:Music Event,Wine Harvest
ATTACH;FMTTYPE=image/png:https://tipsycanyon.com/wp-content/uploads/2024/12/Website-400-x-300-Ray-Glover.png
END:VEVENT
BEGIN:VEVENT
DTSTART;TZID=America/Los_Angeles:20251120T160000
DTEND;TZID=America/Los_Angeles:20251120T180000
DTSTAMP:20260425T050416
CREATED:20250901T204244Z
LAST-MODIFIED:20250901T204244Z
UID:10000637-1763654400-1763661600@tipsycanyon.com
SUMMARY:Live Music During Harvest: Andru Gomez
DESCRIPTION:Tipsy Canyon Winery can’t wait to bring you another fun night of music paired with award winning wines featuring Andru Gomez! \nAndru Gomez is a Montana born musician living in Moscow\, ID. With a passion for songwriting and exploring sounds he has opened for numerous acts and bands over the last 20 years including Bart Budwig\, Hillstomp\, Scott Weiland\, Doug Martsch\, El Ten Eleven and Finn Riggins to name a few. \n 
URL:https://tipsycanyon.com/upcoming-event/live-music-during-harvest-andru-gomez/
LOCATION:Tipsy Canyon Winery\, 270 Upper Joe Creek Rd\, Manson\, WA\, 98831\, United States
CATEGORIES:Music Event,Wine Harvest
ATTACH;FMTTYPE=image/png:https://tipsycanyon.com/wp-content/uploads/2025/09/Website-400-x-300-Andru-Gomez.png
END:VEVENT
END:VCALENDAR