BEGIN:VCALENDAR
VERSION:2.0
PRODID:-//Tipsy Canyon Winery - ECPv6.11.0.1//NONSGML v1.0//EN
CALSCALE:GREGORIAN
METHOD:PUBLISH
X-WR-CALNAME:Tipsy Canyon Winery
X-ORIGINAL-URL:https://tipsycanyon.com
X-WR-CALDESC:Events for Tipsy Canyon Winery
REFRESH-INTERVAL;VALUE=DURATION:PT1H
X-Robots-Tag:noindex
X-PUBLISHED-TTL:PT1H
BEGIN:VTIMEZONE
TZID:America/Los_Angeles
BEGIN:DAYLIGHT
TZOFFSETFROM:-0800
TZOFFSETTO:-0700
TZNAME:PDT
DTSTART:20260308T100000
END:DAYLIGHT
BEGIN:STANDARD
TZOFFSETFROM:-0700
TZOFFSETTO:-0800
TZNAME:PST
DTSTART:20261101T090000
END:STANDARD
END:VTIMEZONE
BEGIN:VEVENT
DTSTART;TZID=America/Los_Angeles:20260530T170000
DTEND;TZID=America/Los_Angeles:20260530T210000
DTSTAMP:20260423T045814
CREATED:20260325T220532Z
LAST-MODIFIED:20260325T220629Z
UID:10000681-1780160400-1780174800@tipsycanyon.com
SUMMARY:May Wine Club Party
DESCRIPTION:**TASTING ROOM WILL BE CLOSED TO THE PUBLIC AT 3:00PM** \nTheme coming soon… \n💫 RSVP TODAY by emailing EVENTS@TIPSYCANYON.COM with your requested number of tickets. Limited spots available! \n$45+tax for wine club members and $65+tax for non-wine club members. \nBELOVED CLUB members receive (2) tickets at the wine club price \nHERITAGE CLUB members receive (3) tickets at the wine club price \nLEGACY CLUB members receive (4) tickets at the wine club price
URL:https://tipsycanyon.com/upcoming-event/may-wine-club-party/
LOCATION:Tipsy Canyon Winery\, 270 Upper Joe Creek Rd\, Manson\, WA\, 98831\, United States
CATEGORIES:Featured Event,Wine Event
ATTACH;FMTTYPE=image/jpeg:https://tipsycanyon.com/wp-content/uploads/2023/09/Award-winning-wine.jpg
END:VEVENT
END:VCALENDAR