BEGIN:VCALENDAR
VERSION:2.0
PRODID:-//Tipsy Canyon Winery - ECPv6.11.0.1//NONSGML v1.0//EN
CALSCALE:GREGORIAN
METHOD:PUBLISH
X-WR-CALNAME:Tipsy Canyon Winery
X-ORIGINAL-URL:https://tipsycanyon.com
X-WR-CALDESC:Events for Tipsy Canyon Winery
REFRESH-INTERVAL;VALUE=DURATION:PT1H
X-Robots-Tag:noindex
X-PUBLISHED-TTL:PT1H
BEGIN:VTIMEZONE
TZID:America/Los_Angeles
BEGIN:DAYLIGHT
TZOFFSETFROM:-0800
TZOFFSETTO:-0700
TZNAME:PDT
DTSTART:20260308T100000
END:DAYLIGHT
BEGIN:STANDARD
TZOFFSETFROM:-0700
TZOFFSETTO:-0800
TZNAME:PST
DTSTART:20261101T090000
END:STANDARD
END:VTIMEZONE
BEGIN:VEVENT
DTSTART;TZID=America/Los_Angeles:20260305T160000
DTEND;TZID=America/Los_Angeles:20260305T180000
DTSTAMP:20260420T064511
CREATED:20251212T224514Z
LAST-MODIFIED:20251212T224514Z
UID:10000657-1772726400-1772733600@tipsycanyon.com
SUMMARY:Live Music: Greg King
DESCRIPTION:Enjoy a cozy Thursday afternoon at Tipsy Canyon Winery with Greg King! \nGreg is a singer\, songwriter\, guitarist\, and band leader with a smooth tenor voice. He performs a combination of classic and unique rock covers as well as originals.\n\nGreg enjoys engaging with the audience between songs to make his performance fun and interesting. While he’s a solo musician\, he uses a Beat pedal to make his own beats for some songs\, and a vocal harmonizer to add harmonies and spice to his set.\n\nSo pull up a seat\, grab a glass of wine\, and get ready to enjoy a fantastic afternoon with live music by Greg King!
URL:https://tipsycanyon.com/upcoming-event/live-music-greg-king-6/
LOCATION:Tipsy Canyon Winery\, 270 Upper Joe Creek Rd\, Manson\, WA\, 98831\, United States
CATEGORIES:Music Event
ATTACH;FMTTYPE=image/jpeg:https://tipsycanyon.com/wp-content/uploads/2023/10/TCW-Website-Event-Images-400-x-300-Greg-King.jpg
END:VEVENT
END:VCALENDAR